BEGIN:VCALENDAR
VERSION:2.0
PRODID:-//Gammelshausen - ECPv5.3.1.1//NONSGML v1.0//EN
CALSCALE:GREGORIAN
METHOD:PUBLISH
X-WR-CALNAME:Gammelshausen
X-ORIGINAL-URL:https://gammelshausen.net
X-WR-CALDESC:Veranstaltungen für Gammelshausen
BEGIN:VTIMEZONE
TZID:Europe/Berlin
BEGIN:DAYLIGHT
TZOFFSETFROM:+0100
TZOFFSETTO:+0200
TZNAME:CEST
DTSTART:20260329T010000
END:DAYLIGHT
BEGIN:STANDARD
TZOFFSETFROM:+0200
TZOFFSETTO:+0100
TZNAME:CET
DTSTART:20261025T010000
END:STANDARD
END:VTIMEZONE
BEGIN:VEVENT
DTSTART;TZID=Europe/Berlin:20260427T160000
DTEND;TZID=Europe/Berlin:20260427T180000
DTSTAMP:20260424T161305
CREATED:20260423T151301Z
LAST-MODIFIED:20260423T151301Z
UID:11458-1777305600-1777312800@gammelshausen.net
SUMMARY:Umstellung Telefonanlage
DESCRIPTION:Aufgrund einer Softwareumstellung an unserer Telefonanlage ist das Rathaus am 27. April 2026 in der Zeit von 16.00 Uhr bis ca. 18.00 Uhr telefonisch nicht erreichbar. \nWir bitten um Beachtung und bedanken uns für Ihr Verständnis.
URL:https://gammelshausen.net/termine/umstellung-telefonanlage/
LOCATION:Rathaus\, Hauptstraße 19\, Gammelshausen\, 73108
CATEGORIES:Ausgewählte Termine
END:VEVENT
END:VCALENDAR