BEGIN:VCALENDAR
VERSION:2.0
PRODID:-//Gammelshausen - ECPv5.3.1.1//NONSGML v1.0//EN
CALSCALE:GREGORIAN
METHOD:PUBLISH
X-WR-CALNAME:Gammelshausen
X-ORIGINAL-URL:https://gammelshausen.net
X-WR-CALDESC:Veranstaltungen für Gammelshausen
BEGIN:VTIMEZONE
TZID:Europe/Berlin
BEGIN:DAYLIGHT
TZOFFSETFROM:+0100
TZOFFSETTO:+0200
TZNAME:CEST
DTSTART:20260329T010000
END:DAYLIGHT
BEGIN:STANDARD
TZOFFSETFROM:+0200
TZOFFSETTO:+0100
TZNAME:CET
DTSTART:20261025T010000
END:STANDARD
END:VTIMEZONE
BEGIN:VEVENT
DTSTART;TZID=Europe/Berlin:20260506T160000
DTEND;TZID=Europe/Berlin:20260506T173000
DTSTAMP:20260424T160742
CREATED:20260423T151427Z
LAST-MODIFIED:20260423T151427Z
UID:11461-1778083200-1778088600@gammelshausen.net
SUMMARY:Bürgersprechstunde
DESCRIPTION:Liebe Bürgerinnen\, liebe Bürger\, \nich lade Sie herzlich ein zu meiner nächsten Bürgersprechstunde am Mittwoch\, 6. Mai 2026 von 16.00 bis 17.30 Uhr und freue mich\, mit Ihnen im Rathaus ins Gespräch zu kommen. Wir bitten im Vorfeld um eine Anmeldung unter Telefon 07164 9401-0\, um längere Wartezeiten zu vermeiden. Gerne können Sie bei der Bürgersprechstunde direkt Ihre Anliegen\, Kritik oder Vorschläge\nansprechen. \nIch freue mich auf Ihren Besuch im Rathaus. \nIhr Bürgermeister\nDaniel Kohl
URL:https://gammelshausen.net/termine/buergersprechstunde/
LOCATION:Rathaus\, Hauptstraße 19\, Gammelshausen\, 73108
CATEGORIES:Ausgewählte Termine
END:VEVENT
END:VCALENDAR